BEGIN:VCALENDAR
VERSION:2.0
PRODID:icalendar-ruby
CALSCALE:GREGORIAN
METHOD:PUBLISH
BEGIN:VTIMEZONE
TZID:Australia/Sydney
BEGIN:DAYLIGHT
DTSTART:20261004T030000
TZOFFSETFROM:+1000
TZOFFSETTO:+1100
RRULE:FREQ=YEARLY;BYDAY=1SU;BYMONTH=10
TZNAME:AEDT
END:DAYLIGHT
BEGIN:STANDARD
DTSTART:20260405T020000
TZOFFSETFROM:+1100
TZOFFSETTO:+1000
RRULE:FREQ=YEARLY;BYDAY=1SU;BYMONTH=4
TZNAME:AEST
END:STANDARD
END:VTIMEZONE
BEGIN:VEVENT
DTSTAMP:20260420T085550Z
UID:inspection_2997176
DTSTART;TZID=Australia/Sydney:20260418T110000
DTEND;TZID=Australia/Sydney:20260418T113000
CLASS:PUBLIC
CREATED:20260414T174918
DESCRIPTION: 
LAST-MODIFIED:20260414T174918
LOCATION:78 Robertson Street\, MERRYLANDS NSW 2160\, Australia
SUMMARY:78 Robertson Street\,  Inspection
URL;VALUE=URI:nationalre.com.au
END:VEVENT
END:VCALENDAR
